{"text_format":"3","workbook":"xlsx","n_sheets":1,"sheets":["Sheet1"],"not_rendered":{"external_links":1,"defined_names":2},"read":"whole","date_system":"1900"}

{"sheet":"Sheet1","index":0,"n_rows":125,"n_cols":13,"rows_kept":125,"merged":[[0,0,0,1],[1,0,1,12]]}
["附件1"]
["2025年遂溪县第二轮公开招聘教师入围资格审核名单及分组情况"]
["序号","准考证号","姓名","性别","招聘单位","岗位名称","岗位代码","招聘人数","总成绩","名次","资格审核时间","组别","备注"]
[1,"250920100320","江秋丽",{"$f":"VLOOKUP(B4,[1]进入资格复审!$A:$D,4,FALSE)","v":"女"},"杨柑中学","高中语文教师","A01",3,"93.69",1,"10月17日上午","第1组"]
[2,"250920100215","唐汝涵",{"$f":"VLOOKUP(B5,[1]进入资格复审!$A:$D,4,FALSE)","v":"女"},"杨柑中学","高中语文教师","A01",3,"91.07",2,"10月17日上午","第1组"]
[3,"250920100108","邓雨凤",{"$f":"VLOOKUP(B6,[1]进入资格复审!$A:$D,4,FALSE)","v":"女"},"杨柑中学","高中语文教师","A01",3,"90.16",3,"10月17日上午","第1组"]
[4,"250920100327","陈雪杏",{"$f":"VLOOKUP(B7,[1]进入资格复审!$A:$D,4,FALSE)","v":"女"},"杨柑中学","高中语文教师","A01",3,"87.92",4,"10月17日上午","第1组"]
[5,"250920100312","谢觉莹",{"$f":"VLOOKUP(B8,[1]进入资格复审!$A:$D,4,FALSE)","v":"女"},"杨柑中学","高中语文教师","A01",3,"87.25",5,"10月17日上午","第1组"]
[6,"250920100406","肖桐",{"$f":"VLOOKUP(B9,[1]进入资格复审!$A:$D,4,FALSE)","v":"女"},"杨柑中学","高中语文教师","A01",3,"87.22",6,"10月17日上午","第1组"]
[7,"250920100403","陈燕丹",{"$f":"VLOOKUP(B10,[1]进入资格复审!$A:$D,4,FALSE)","v":"女"},"杨柑中学","高中语文教师","A01",3,"86.91",7,"10月17日上午","第1组"]
[8,"250920100207","陈芷晴",{"$f":"VLOOKUP(B11,[1]进入资格复审!$A:$D,4,FALSE)","v":"女"},"杨柑中学","高中语文教师","A01",3,"85.83",8,"10月17日上午","第1组"]
[9,"250920100106","杨炜燕",{"$f":"VLOOKUP(B12,[1]进入资格复审!$A:$D,4,FALSE)","v":"女"},"杨柑中学","高中语文教师","A01",3,"85.35",9,"10月17日上午","第1组"]
[10,"250920100420","梁锦",{"$f":"VLOOKUP(B13,[1]进入资格复审!$A:$D,4,FALSE)","v":"男"},"杨柑中学","高中数学教师","A02",4,"79.67",1,"10月17日上午","第2组"]
[11,"250920100419","黄文丽",{"$f":"VLOOKUP(B14,[1]进入资格复审!$A:$D,4,FALSE)","v":"女"},"杨柑中学","高中数学教师","A02",4,"78.64",2,"10月17日上午","第2组"]
[12,"250920100507","张琳乐",{"$f":"VLOOKUP(B15,[1]进入资格复审!$A:$D,4,FALSE)","v":"女"},"杨柑中学","高中物理教师","A03",2,"83.16",1,"10月17日下午","第1组"]
[13,"250920100430","周煜乔",{"$f":"VLOOKUP(B16,[1]进入资格复审!$A:$D,4,FALSE)","v":"男"},"杨柑中学","高中物理教师","A03",2,"82.35",2,"10月17日下午","第1组"]
[14,"250920100506","吴伟梅",{"$f":"VLOOKUP(B17,[1]进入资格复审!$A:$D,4,FALSE)","v":"女"},"杨柑中学","高中物理教师","A03",2,"81.94",3,"10月17日下午","第1组"]
[15,"250920100427","陈保成",{"$f":"VLOOKUP(B18,[1]进入资格复审!$A:$D,4,FALSE)","v":"男"},"杨柑中学","高中物理教师","A03",2,"79.63",4,"10月17日下午","第1组"]
[16,"250920100512","李政",{"$f":"VLOOKUP(B19,[1]进入资格复审!$A:$D,4,FALSE)","v":"男"},"杨柑中学","高中物理教师","A03",2,"79.08",5,"10月17日下午","第1组"]
[17,"250920100503","陈俊宇",{"$f":"VLOOKUP(B20,[1]进入资格复审!$A:$D,4,FALSE)","v":"男"},"杨柑中学","高中物理教师","A03",2,"77.03",6,"10月17日下午","第1组"]
[18,"250920100516","陈珊珊",{"$f":"VLOOKUP(B21,[1]进入资格复审!$A:$D,4,FALSE)","v":"女"},"杨柑中学","高中化学教师","A04",2,"89.86",1,"10月17日下午","第1组"]
[19,"250920100517","温华飞",{"$f":"VLOOKUP(B22,[1]进入资格复审!$A:$D,4,FALSE)","v":"女"},"杨柑中学","高中化学教师","A04",2,"86.55",2,"10月17日下午","第1组"]
[20,"250920100529","陈伟燕",{"$f":"VLOOKUP(B23,[1]进入资格复审!$A:$D,4,FALSE)","v":"女"},"杨柑中学","高中化学教师","A04",2,"85.79",3,"10月17日下午","第1组"]
[21,"250920100515","陈丹薇",{"$f":"VLOOKUP(B24,[1]进入资格复审!$A:$D,4,FALSE)","v":"女"},"杨柑中学","高中化学教师","A04",2,"85.31",4,"10月17日下午","第1组"]
[22,"250920100610","王碧雯",{"$f":"VLOOKUP(B25,[1]进入资格复审!$A:$D,4,FALSE)","v":"女"},"杨柑中学","高中化学教师","A04",2,"85.00",5,"10月17日下午","第1组"]
[23,"250920100606","刘弘",{"$f":"VLOOKUP(B26,[1]进入资格复审!$A:$D,4,FALSE)","v":"女"},"杨柑中学","高中化学教师","A04",2,"84.06",6,"10月17日下午","第1组"]
[24,"250920100626","许小小",{"$f":"VLOOKUP(B27,[1]进入资格复审!$A:$D,4,FALSE)","v":"女"},"杨柑中学","高中历史教师","A05",1,"83.72",1,"10月17日上午","第2组"]
[25,"250920100716","梁华锋",{"$f":"VLOOKUP(B28,[1]进入资格复审!$A:$D,4,FALSE)","v":"男"},"杨柑中学","高中历史教师","A05",1,"81.68",2,"10月17日上午","第2组"]
[26,"250920100703","陈文樱",{"$f":"VLOOKUP(B29,[1]进入资格复审!$A:$D,4,FALSE)","v":"女"},"杨柑中学","高中历史教师","A05",1,"79.67",3,"10月17日上午","第2组"]
[27,"250920100725","凌晖雲",{"$f":"VLOOKUP(B30,[1]进入资格复审!$A:$D,4,FALSE)","v":"男"},"杨柑中学","高中地理教师","A06",2,"90.44",1,"10月17日下午","第2组"]
[28,"250920100719","黄郑婷",{"$f":"VLOOKUP(B31,[1]进入资格复审!$A:$D,4,FALSE)","v":"女"},"杨柑中学","高中地理教师","A06",2,"86.12",2,"10月17日下午","第2组"]
[29,"250920100803","张颖琪",{"$f":"VLOOKUP(B32,[1]进入资格复审!$A:$D,4,FALSE)","v":"女"},"杨柑中学","高中地理教师","A06",2,"85.60",3,"10月17日下午","第2组"]
[30,"250920100721","黄丽丽",{"$f":"VLOOKUP(B33,[1]进入资格复审!$A:$D,4,FALSE)","v":"女"},"杨柑中学","高中地理教师","A06",2,"79.94",4,"10月17日下午","第2组"]
[31,"250920100724","叶荣婵",{"$f":"VLOOKUP(B34,[1]进入资格复审!$A:$D,4,FALSE)","v":"女"},"杨柑中学","高中地理教师","A06",2,"79.30",5,"10月17日下午","第2组"]
[32,"250920100727","胡满萍",{"$f":"VLOOKUP(B35,[1]进入资格复审!$A:$D,4,FALSE)","v":"女"},"杨柑中学","高中地理教师","A06",2,"78.28",6,"10月17日下午","第2组"]
[33,"250920100717","劳春媚",{"$f":"VLOOKUP(B36,[1]进入资格复审!$A:$D,4,FALSE)","v":"女"},"杨柑中学","高中地理教师","A06",2,"78.28",6,"10月17日下午","第2组"]
[34,"250920100814","陈锦凤",{"$f":"VLOOKUP(B37,[1]进入资格复审!$A:$D,4,FALSE)","v":"女"},"杨柑中学","高中美术教师","A07",1,"90.80",1,"10月17日上午","第1组"]
[35,"250920101016","麦芷杏",{"$f":"VLOOKUP(B38,[1]进入资格复审!$A:$D,4,FALSE)","v":"女"},"杨柑中学","高中美术教师","A07",1,"88.90",2,"10月17日上午","第1组"]
[36,"250920100913","詹志红",{"$f":"VLOOKUP(B39,[1]进入资格复审!$A:$D,4,FALSE)","v":"女"},"杨柑中学","高中美术教师","A07",1,"88.15",3,"10月17日上午","第1组"]
[37,"250920101412","潘雅诗",{"$f":"VLOOKUP(B40,[1]进入资格复审!$A:$D,4,FALSE)","v":"女"},"杨柑中学","高中舞蹈教师","A08",1,"90.57",1,"10月17日上午","第2组"]
[38,"250920101502","张心豫",{"$f":"VLOOKUP(B41,[1]进入资格复审!$A:$D,4,FALSE)","v":"女"},"杨柑中学","高中舞蹈教师","A08",1,"89.48",2,"10月17日上午","第2组"]
[39,"250920101430","黎楚娴",{"$f":"VLOOKUP(B42,[1]进入资格复审!$A:$D,4,FALSE)","v":"女"},"杨柑中学","高中舞蹈教师","A08",1,"87.31",3,"10月17日上午","第2组"]
[40,"250920101704","林柳吟",{"$f":"VLOOKUP(B43,[1]进入资格复审!$A:$D,4,FALSE)","v":"女"},"城月中学","初中语文教师","B01",1,"89.04",1,"10月17日上午","第1组"]
[41,"250920101721","谢瑞丽",{"$f":"VLOOKUP(B44,[1]进入资格复审!$A:$D,4,FALSE)","v":"女"},"城月中学","初中语文教师","B01",1,"88.12",2,"10月17日上午","第1组"]
[42,"250920101512","卢德业",{"$f":"VLOOKUP(B45,[1]进入资格复审!$A:$D,4,FALSE)","v":"男"},"城月中学","初中语文教师","B01",1,"87.74",3,"10月17日上午","第1组"]
[43,"250920101901","黄志莹",{"$f":"VLOOKUP(B46,[1]进入资格复审!$A:$D,4,FALSE)","v":"女"},"北坡中学","初中语文教师","B02",1,"89.40",1,"10月17日上午","第1组"]
[44,"250920101808","陈姝任",{"$f":"VLOOKUP(B47,[1]进入资格复审!$A:$D,4,FALSE)","v":"女"},"北坡中学","初中语文教师","B02",1,"87.69",2,"10月17日上午","第1组"]
[45,"250920101823","黎懿婵",{"$f":"VLOOKUP(B48,[1]进入资格复审!$A:$D,4,FALSE)","v":"女"},"北坡中学","初中语文教师","B02",1,"86.37",3,"10月17日上午","第1组"]
[46,"250920101908","凌志银",{"$f":"VLOOKUP(B49,[1]进入资格复审!$A:$D,4,FALSE)","v":"女"},"河头中学","初中语文教师","B03",1,"90.63",1,"10月17日上午","第1组"]
[47,"250920101922","骆燕华",{"$f":"VLOOKUP(B50,[1]进入资格复审!$A:$D,4,FALSE)","v":"女"},"河头中学","初中语文教师","B03",1,"87.05",2,"10月17日上午","第1组"]
[48,"250920101909","黄小芬",{"$f":"VLOOKUP(B51,[1]进入资格复审!$A:$D,4,FALSE)","v":"女"},"河头中学","初中语文教师","B03",1,"86.65",3,"10月17日上午","第1组"]
[49,"250920102024","刘彩月",{"$f":"VLOOKUP(B52,[1]进入资格复审!$A:$D,4,FALSE)","v":"女"},"界炮中学","初中语文教师","B04",1,"89.76",1,"10月17日上午","第1组"]
[50,"250920102104","邱炳森",{"$f":"VLOOKUP(B53,[1]进入资格复审!$A:$D,4,FALSE)","v":"男"},"界炮中学","初中语文教师","B04",1,"88.33",2,"10月17日上午","第1组"]
[51,"250920102028","甘浴林",{"$f":"VLOOKUP(B54,[1]进入资格复审!$A:$D,4,FALSE)","v":"女"},"界炮中学","初中语文教师","B04",1,"87.01",3,"10月17日上午","第1组"]
[52,"250920102123","陈婵娟",{"$f":"VLOOKUP(B55,[1]进入资格复审!$A:$D,4,FALSE)","v":"女"},"雷林初中","初中语文教师","B05",1,"88.47",1,"10月17日上午","第1组"]
[53,"250920102128","洪小冰",{"$f":"VLOOKUP(B56,[1]进入资格复审!$A:$D,4,FALSE)","v":"女"},"雷林初中","初中语文教师","B05",1,"86.24",2,"10月17日上午","第1组"]
[54,"250920102124","范梓源",{"$f":"VLOOKUP(B57,[1]进入资格复审!$A:$D,4,FALSE)","v":"女"},"雷林初中","初中语文教师","B05",1,"85.90",3,"10月17日上午","第1组"]
[55,"250920102312","何嘉谕",{"$f":"VLOOKUP(B58,[1]进入资格复审!$A:$D,4,FALSE)","v":"女"},"草潭初中","初中语文教师","B06",1,"88.61",1,"10月17日上午","第1组"]
[56,"250920102316","陈海燕",{"$f":"VLOOKUP(B59,[1]进入资格复审!$A:$D,4,FALSE)","v":"女"},"草潭初中","初中语文教师","B06",1,"87.94",2,"10月17日上午","第1组"]
[57,"250920102325","陈诗婷",{"$f":"VLOOKUP(B60,[1]进入资格复审!$A:$D,4,FALSE)","v":"女"},"草潭初中","初中语文教师","B06",1,"86.14",3,"10月17日上午","第1组"]
[58,"250920102421","李诗韵",{"$f":"VLOOKUP(B61,[1]进入资格复审!$A:$D,4,FALSE)","v":"女"},"城月中学","初中数学教师","B07",2,"78.70",1,"10月17日上午","第2组"]
[59,"250920102401","程思良",{"$f":"VLOOKUP(B62,[1]进入资格复审!$A:$D,4,FALSE)","v":"男"},"城月中学","初中数学教师","B07",2,"77.82",2,"10月17日上午","第2组"]
[60,"250920102402","戴永康",{"$f":"VLOOKUP(B63,[1]进入资格复审!$A:$D,4,FALSE)","v":"男"},"城月中学","初中数学教师","B07",2,"77.66",3,"10月17日上午","第2组"]
[61,"250920102405","刘欣欣",{"$f":"VLOOKUP(B64,[1]进入资格复审!$A:$D,4,FALSE)","v":"女"},"城月中学","初中数学教师","B07",2,"76.14",4,"10月17日上午","第2组"]
[62,"250920102425","陈田森",{"$f":"VLOOKUP(B65,[1]进入资格复审!$A:$D,4,FALSE)","v":"男"},"北坡中学","初中数学教师","B08",2,"80.04",1,"10月17日上午","第2组"]
[63,"250920102424","招大铸",{"$f":"VLOOKUP(B66,[1]进入资格复审!$A:$D,4,FALSE)","v":"男"},"北坡中学","初中数学教师","B08",2,"79.62",2,"10月17日上午","第2组"]
[64,"250920102428","帅君文",{"$f":"VLOOKUP(B67,[1]进入资格复审!$A:$D,4,FALSE)","v":"男"},"北坡中学","初中数学教师","B08",2,"73.60",3,"10月17日上午","第2组"]
[65,"250920102501","叶景明",{"$f":"VLOOKUP(B68,[1]进入资格复审!$A:$D,4,FALSE)","v":"男"},"北坡中学","初中数学教师","B08",2,"69.62",4,"10月17日上午","第2组"]
[66,"250920102509","吴志海",{"$f":"VLOOKUP(B69,[1]进入资格复审!$A:$D,4,FALSE)","v":"男"},"河头中学","初中数学教师","B09",2,"82.28",1,"10月17日上午","第2组"]
[67,"250920102508","陈婷",{"$f":"VLOOKUP(B70,[1]进入资格复审!$A:$D,4,FALSE)","v":"女"},"河头中学","初中数学教师","B09",2,"80.32",2,"10月17日上午","第2组"]
[68,"250920102514","谷左",{"$f":"VLOOKUP(B71,[1]进入资格复审!$A:$D,4,FALSE)","v":"女"},"河头中学","初中数学教师","B09",2,"75.12",3,"10月17日上午","第2组"]
[69,"250920102510","陈权进",{"$f":"VLOOKUP(B72,[1]进入资格复审!$A:$D,4,FALSE)","v":"男"},"河头中学","初中数学教师","B09",2,"73.49",4,"10月17日上午","第2组"]
[70,"250920102516","何俊杰",{"$f":"VLOOKUP(B73,[1]进入资格复审!$A:$D,4,FALSE)","v":"男"},"界炮中学","初中数学教师","B10",2,"80.82",1,"10月17日上午","第2组"]
[71,"250920102526","周海鹏",{"$f":"VLOOKUP(B74,[1]进入资格复审!$A:$D,4,FALSE)","v":"男"},"沙古初中","初中数学教师","B11",1,"83.45",1,"10月17日上午","第2组"]
[72,"250920102524","梁锦琦",{"$f":"VLOOKUP(B75,[1]进入资格复审!$A:$D,4,FALSE)","v":"女"},"沙古初中","初中数学教师","B11",1,"81.38",2,"10月17日上午","第2组"]
[73,"250920102529","谢子露",{"$f":"VLOOKUP(B76,[1]进入资格复审!$A:$D,4,FALSE)","v":"男"},"沙古初中","初中数学教师","B11",1,"76.69",3,"10月17日上午","第2组"]
[74,"250920102608","陈紫琼",{"$f":"VLOOKUP(B77,[1]进入资格复审!$A:$D,4,FALSE)","v":"女"},"江洪初中","初中数学教师","B13",1,"84.68",1,"10月17日上午","第2组"]
[75,"250920102610","廖海琳",{"$f":"VLOOKUP(B78,[1]进入资格复审!$A:$D,4,FALSE)","v":"女"},"江洪初中","初中数学教师","B13",1,"77.04",2,"10月17日上午","第2组"]
[76,"250920102621","潘威志",{"$f":"VLOOKUP(B79,[1]进入资格复审!$A:$D,4,FALSE)","v":"男"},"北坡中学","初中物理教师","B14",1,"77.65",1,"10月17日下午","第1组"]
[77,"250920102613","周芳菲",{"$f":"VLOOKUP(B80,[1]进入资格复审!$A:$D,4,FALSE)","v":"女"},"北坡中学","初中物理教师","B14",1,"73.12",2,"10月17日下午","第1组"]
[78,"250920102623","陈春敏",{"$f":"VLOOKUP(B81,[1]进入资格复审!$A:$D,4,FALSE)","v":"女"},"北坡中学","初中物理教师","B14",1,"71.97",3,"10月17日下午","第1组"]
[79,"250920102628","林琳",{"$f":"VLOOKUP(B82,[1]进入资格复审!$A:$D,4,FALSE)","v":"女"},"界炮中学","初中物理教师","B15",1,"85.96",1,"10月17日下午","第1组"]
[80,"250920102701","杨紫铃",{"$f":"VLOOKUP(B83,[1]进入资格复审!$A:$D,4,FALSE)","v":"女"},"界炮中学","初中物理教师","B15",1,"85.34",2,"10月17日下午","第1组"]
[81,"250920102704","曹泽铭",{"$f":"VLOOKUP(B84,[1]进入资格复审!$A:$D,4,FALSE)","v":"男"},"界炮中学","初中物理教师","B15",1,"84.59",3,"10月17日下午","第1组"]
[82,"250920102709","陈耀钧",{"$f":"VLOOKUP(B85,[1]进入资格复审!$A:$D,4,FALSE)","v":"男"},"草潭初中","初中物理教师","B16",1,"81.07",1,"10月17日下午","第1组"]
[83,"250920102723","李艳晨",{"$f":"VLOOKUP(B86,[1]进入资格复审!$A:$D,4,FALSE)","v":"女"},"北坡中学","初中化学教师","B17",1,"90.80",1,"10月17日下午","第1组"]
[84,"250920102730","许真玮",{"$f":"VLOOKUP(B87,[1]进入资格复审!$A:$D,4,FALSE)","v":"女"},"北坡中学","初中化学教师","B17",1,"88.01",2,"10月17日下午","第1组"]
[85,"250920102802","何可苗",{"$f":"VLOOKUP(B88,[1]进入资格复审!$A:$D,4,FALSE)","v":"女"},"北坡中学","初中化学教师","B17",1,"85.70",3,"10月17日下午","第1组"]
[86,"250920102829","杞洪杰",{"$f":"VLOOKUP(B89,[1]进入资格复审!$A:$D,4,FALSE)","v":"女"},"河头中学","初中化学教师","B18",1,"86.71",1,"10月17日下午","第1组"]
[87,"250920102827","杨小霞",{"$f":"VLOOKUP(B90,[1]进入资格复审!$A:$D,4,FALSE)","v":"女"},"河头中学","初中化学教师","B18",1,"84.98",2,"10月17日下午","第1组"]
[88,"250920102808","何木婷",{"$f":"VLOOKUP(B91,[1]进入资格复审!$A:$D,4,FALSE)","v":"女"},"河头中学","初中化学教师","B18",1,"83.56",3,"10月17日下午","第1组"]
[89,"250920102927","王巨才",{"$f":"VLOOKUP(B92,[1]进入资格复审!$A:$D,4,FALSE)","v":"男"},"雷林初中","初中化学教师","B19",1,"90.52",1,"10月17日下午","第1组"]
[90,"250920102918","钟凯欣",{"$f":"VLOOKUP(B93,[1]进入资格复审!$A:$D,4,FALSE)","v":"女"},"雷林初中","初中化学教师","B19",1,"88.90",2,"10月17日下午","第1组"]
[91,"250920102911","林文凤",{"$f":"VLOOKUP(B94,[1]进入资格复审!$A:$D,4,FALSE)","v":"女"},"雷林初中","初中化学教师","B19",1,"87.06",3,"10月17日下午","第1组"]
[92,"250920103009","陈智燕",{"$f":"VLOOKUP(B95,[1]进入资格复审!$A:$D,4,FALSE)","v":"女"},"江洪初中","初中化学教师","B20",1,"88.42",1,"10月17日下午","第1组"]
[93,"250920103004","冯育贤",{"$f":"VLOOKUP(B96,[1]进入资格复审!$A:$D,4,FALSE)","v":"男"},"江洪初中","初中化学教师","B20",1,"85.29",2,"10月17日下午","第1组"]
[94,"250920102930","王湘柳",{"$f":"VLOOKUP(B97,[1]进入资格复审!$A:$D,4,FALSE)","v":"女"},"江洪初中","初中化学教师","B20",1,"83.70",3,"10月17日下午","第1组"]
[95,"250920103106","谢月娥",{"$f":"VLOOKUP(B98,[1]进入资格复审!$A:$D,4,FALSE)","v":"女"},"北坡中学","初中历史教师","B21",1,"80.70",1,"10月17日上午","第2组"]
[96,"250920103024","杨樱枝",{"$f":"VLOOKUP(B99,[1]进入资格复审!$A:$D,4,FALSE)","v":"女"},"北坡中学","初中历史教师","B21",1,"79.84",2,"10月17日上午","第2组"]
[97,"250920103030","符尹美",{"$f":"VLOOKUP(B100,[1]进入资格复审!$A:$D,4,FALSE)","v":"女"},"北坡中学","初中历史教师","B21",1,"78.39",3,"10月17日上午","第2组"]
[98,"250920103108","何俊生",{"$f":"VLOOKUP(B101,[1]进入资格复审!$A:$D,4,FALSE)","v":"男"},"港门初中","初中历史教师","B22",1,"87.75",1,"10月17日上午","第2组"]
[99,"250920103110","何冠泽",{"$f":"VLOOKUP(B102,[1]进入资格复审!$A:$D,4,FALSE)","v":"男"},"港门初中","初中历史教师","B22",1,"86.74",2,"10月17日上午","第2组"]
[100,"250920103111","王水连",{"$f":"VLOOKUP(B103,[1]进入资格复审!$A:$D,4,FALSE)","v":"女"},"港门初中","初中历史教师","B22",1,"82.42",3,"10月17日上午","第2组"]
[101,"250920103215","李春珍",{"$f":"VLOOKUP(B104,[1]进入资格复审!$A:$D,4,FALSE)","v":"女"},"城月中学","初中地理教师","B23",2,"83.26",1,"10月17日下午","第2组"]
[102,"250920103212","周桂磐",{"$f":"VLOOKUP(B105,[1]进入资格复审!$A:$D,4,FALSE)","v":"男"},"城月中学","初中地理教师","B23",2,"81.35",2,"10月17日下午","第2组"]
[103,"250920103216","廖克迪",{"$f":"VLOOKUP(B106,[1]进入资格复审!$A:$D,4,FALSE)","v":"男"},"城月中学","初中地理教师","B23",2,"79.33",3,"10月17日下午","第2组"]
[104,"250920103129","余慧慧",{"$f":"VLOOKUP(B107,[1]进入资格复审!$A:$D,4,FALSE)","v":"女"},"城月中学","初中地理教师","B23",2,"75.74",4,"10月17日下午","第2组"]
[105,"250920103217","邓惠文",{"$f":"VLOOKUP(B108,[1]进入资格复审!$A:$D,4,FALSE)","v":"女"},"城月中学","初中地理教师","B23",2,"70.78",5,"10月17日下午","第2组"]
[106,"250920103226","许凤玲",{"$f":"VLOOKUP(B109,[1]进入资格复审!$A:$D,4,FALSE)","v":"女"},"北坡中学","初中地理教师","B24",2,"89.39",1,"10月17日下午","第2组"]
[107,"250920103301","林颖",{"$f":"VLOOKUP(B110,[1]进入资格复审!$A:$D,4,FALSE)","v":"女"},"北坡中学","初中地理教师","B24",2,"87.49",2,"10月17日下午","第2组"]
[108,"250920103307","黄柔柔",{"$f":"VLOOKUP(B111,[1]进入资格复审!$A:$D,4,FALSE)","v":"女"},"北坡中学","初中地理教师","B24",2,"84.39",3,"10月17日下午","第2组"]
[109,"250920103306","张庭筠",{"$f":"VLOOKUP(B112,[1]进入资格复审!$A:$D,4,FALSE)","v":"女"},"北坡中学","初中地理教师","B24",2,"83.23",4,"10月17日下午","第2组"]
[110,"250920103310","洪志光",{"$f":"VLOOKUP(B113,[1]进入资格复审!$A:$D,4,FALSE)","v":"男"},"北坡中学","初中地理教师","B24",2,"82.06",5,"10月17日下午","第2组"]
[111,"250920103227","陈铭",{"$f":"VLOOKUP(B114,[1]进入资格复审!$A:$D,4,FALSE)","v":"女"},"北坡中学","初中地理教师","B24",2,"81.57",6,"10月17日下午","第2组"]
[112,"250920103313","黄楸婷",{"$f":"VLOOKUP(B115,[1]进入资格复审!$A:$D,4,FALSE)","v":"女"},"洋青中学","初中地理教师","B25",1,"85.50",1,"10月17日下午","第2组"]
[113,"250920103311","李诗婷",{"$f":"VLOOKUP(B116,[1]进入资格复审!$A:$D,4,FALSE)","v":"女"},"洋青中学","初中地理教师","B25",1,"82.84",2,"10月17日下午","第2组"]
[114,"250920103315","陈佳蔚",{"$f":"VLOOKUP(B117,[1]进入资格复审!$A:$D,4,FALSE)","v":"女"},"洋青中学","初中地理教师","B25",1,"80.31",3,"10月17日下午","第2组"]
[115,"250920103319","郑诗静",{"$f":"VLOOKUP(B118,[1]进入资格复审!$A:$D,4,FALSE)","v":"女"},"界炮中学","初中地理教师","B26",1,"81.53",1,"10月17日下午","第2组"]
[116,"250920103323","曾聪",{"$f":"VLOOKUP(B119,[1]进入资格复审!$A:$D,4,FALSE)","v":"男"},"界炮中学","初中地理教师","B26",1,"73.84",2,"10月17日下午","第2组"]
[117,"250920103321","莫淇雯",{"$f":"VLOOKUP(B120,[1]进入资格复审!$A:$D,4,FALSE)","v":"女"},"界炮中学","初中地理教师","B26",1,"73.56",3,"10月17日下午","第2组"]
[118,"250920103328","梁元",{"$f":"VLOOKUP(B121,[1]进入资格复审!$A:$D,4,FALSE)","v":"男"},"草潭初中","初中地理教师","B27",1,"76.43",1,"10月17日下午","第2组"]
[119,"250920103327","陈荃程",{"$f":"VLOOKUP(B122,[1]进入资格复审!$A:$D,4,FALSE)","v":"女"},"草潭初中","初中地理教师","B27",1,"63.70",2,"10月17日下午","第2组"]
[120,"250920103509","梁春虹",{"$f":"VLOOKUP(B123,[1]进入资格复审!$A:$D,4,FALSE)","v":"女"},"港门初中","初中生物教师","B28",1,"95.26",1,"10月17日上午","第1组"]
[121,"250920103710","杨安",{"$f":"VLOOKUP(B124,[1]进入资格复审!$A:$D,4,FALSE)","v":"女"},"港门初中","初中生物教师","B28",1,"88.15",2,"10月17日上午","第1组"]
[122,"250920103422","曾虹茹",{"$f":"VLOOKUP(B125,[1]进入资格复审!$A:$D,4,FALSE)","v":"女"},"港门初中","初中生物教师","B28",1,"87.82",3,"10月17日上午","第1组"]