{"text_format":"3","workbook":"xlsx","n_sheets":1,"sheets":["入围面试人员预分组"],"not_rendered":{"external_links":1,"defined_names":2},"read":"whole","date_system":"1900"}

{"sheet":"入围面试人员预分组","index":0,"n_rows":121,"n_cols":9,"rows_kept":121,"merged":[[0,0,0,1],[1,0,1,8]]}
["附件1"]
["2025年遂溪县第二轮公开招聘教师入围面试名单及预分组情况"]
["序号","面试预分组","准考证号","姓  名","报考单位名称","岗位代码","岗位名称","岗位招聘人数","备注"]
[1,"第01预分组","250920100320","江秋丽",{"$f":"_xlfn.XLOOKUP(F4,[1]岗位信息表!$B:$B,[1]岗位信息表!$C:$C)","v":"遂溪县杨柑中学"},"A01","高中语文教师",3]
[2,"第01预分组","250920100215","唐汝涵",{"$f":"_xlfn.XLOOKUP(F5,[1]岗位信息表!$B:$B,[1]岗位信息表!$C:$C)","v":"遂溪县杨柑中学"},"A01","高中语文教师",3]
[3,"第01预分组","250920100108","邓雨凤",{"$f":"_xlfn.XLOOKUP(F6,[1]岗位信息表!$B:$B,[1]岗位信息表!$C:$C)","v":"遂溪县杨柑中学"},"A01","高中语文教师",3]
[4,"第01预分组","250920100327","陈雪杏",{"$f":"_xlfn.XLOOKUP(F7,[1]岗位信息表!$B:$B,[1]岗位信息表!$C:$C)","v":"遂溪县杨柑中学"},"A01","高中语文教师",3]
[5,"第01预分组","250920100312","谢觉莹",{"$f":"_xlfn.XLOOKUP(F8,[1]岗位信息表!$B:$B,[1]岗位信息表!$C:$C)","v":"遂溪县杨柑中学"},"A01","高中语文教师",3]
[6,"第01预分组","250920100403","陈燕丹",{"$f":"_xlfn.XLOOKUP(F9,[1]岗位信息表!$B:$B,[1]岗位信息表!$C:$C)","v":"遂溪县杨柑中学"},"A01","高中语文教师",3]
[7,"第01预分组","250920100207","陈芷晴",{"$f":"_xlfn.XLOOKUP(F10,[1]岗位信息表!$B:$B,[1]岗位信息表!$C:$C)","v":"遂溪县杨柑中学"},"A01","高中语文教师",3]
[8,"第01预分组","250920100106","杨炜燕",{"$f":"_xlfn.XLOOKUP(F11,[1]岗位信息表!$B:$B,[1]岗位信息表!$C:$C)","v":"遂溪县杨柑中学"},"A01","高中语文教师",3]
[9,"第01预分组","250920100408","卢继炽",{"$f":"_xlfn.XLOOKUP(F12,[1]岗位信息表!$B:$B,[1]岗位信息表!$C:$C)","v":"遂溪县杨柑中学"},"A01","高中语文教师",3]
[10,"第01预分组","250920101704","林柳吟",{"$f":"_xlfn.XLOOKUP(F13,[1]岗位信息表!$B:$B,[1]岗位信息表!$C:$C)","v":"遂溪县城月中学"},"B01","初中语文教师",1]
[11,"第01预分组","250920101721","谢瑞丽",{"$f":"_xlfn.XLOOKUP(F14,[1]岗位信息表!$B:$B,[1]岗位信息表!$C:$C)","v":"遂溪县城月中学"},"B01","初中语文教师",1]
[12,"第01预分组","250920101512","卢德业",{"$f":"_xlfn.XLOOKUP(F15,[1]岗位信息表!$B:$B,[1]岗位信息表!$C:$C)","v":"遂溪县城月中学"},"B01","初中语文教师",1]
[13,"第01预分组","250920101901","黄志莹",{"$f":"_xlfn.XLOOKUP(F16,[1]岗位信息表!$B:$B,[1]岗位信息表!$C:$C)","v":"遂溪县北坡中学"},"B02","初中语文教师",1]
[14,"第01预分组","250920101808","陈姝任",{"$f":"_xlfn.XLOOKUP(F17,[1]岗位信息表!$B:$B,[1]岗位信息表!$C:$C)","v":"遂溪县北坡中学"},"B02","初中语文教师",1]
[15,"第01预分组","250920101823","黎懿婵",{"$f":"_xlfn.XLOOKUP(F18,[1]岗位信息表!$B:$B,[1]岗位信息表!$C:$C)","v":"遂溪县北坡中学"},"B02","初中语文教师",1]
[16,"第01预分组","250920101908","凌志银",{"$f":"_xlfn.XLOOKUP(F19,[1]岗位信息表!$B:$B,[1]岗位信息表!$C:$C)","v":"遂溪县河头中学"},"B03","初中语文教师",1]
[17,"第01预分组","250920101922","骆燕华",{"$f":"_xlfn.XLOOKUP(F20,[1]岗位信息表!$B:$B,[1]岗位信息表!$C:$C)","v":"遂溪县河头中学"},"B03","初中语文教师",1]
[18,"第01预分组","250920101909","黄小芬",{"$f":"_xlfn.XLOOKUP(F21,[1]岗位信息表!$B:$B,[1]岗位信息表!$C:$C)","v":"遂溪县河头中学"},"B03","初中语文教师",1]
[19,"第01预分组","250920102024","刘彩月",{"$f":"_xlfn.XLOOKUP(F22,[1]岗位信息表!$B:$B,[1]岗位信息表!$C:$C)","v":"遂溪县界炮中学"},"B04","初中语文教师",1]
[20,"第01预分组","250920102104","邱炳森",{"$f":"_xlfn.XLOOKUP(F23,[1]岗位信息表!$B:$B,[1]岗位信息表!$C:$C)","v":"遂溪县界炮中学"},"B04","初中语文教师",1]
[21,"第01预分组","250920102028","甘浴林",{"$f":"_xlfn.XLOOKUP(F24,[1]岗位信息表!$B:$B,[1]岗位信息表!$C:$C)","v":"遂溪县界炮中学"},"B04","初中语文教师",1]
[22,"第01预分组","250920102123","陈婵娟",{"$f":"_xlfn.XLOOKUP(F25,[1]岗位信息表!$B:$B,[1]岗位信息表!$C:$C)","v":"遂溪县雷林初级中学"},"B05","初中语文教师",1]
[23,"第01预分组","250920102128","洪小冰",{"$f":"_xlfn.XLOOKUP(F26,[1]岗位信息表!$B:$B,[1]岗位信息表!$C:$C)","v":"遂溪县雷林初级中学"},"B05","初中语文教师",1]
[24,"第01预分组","250920102124","范梓源",{"$f":"_xlfn.XLOOKUP(F27,[1]岗位信息表!$B:$B,[1]岗位信息表!$C:$C)","v":"遂溪县雷林初级中学"},"B05","初中语文教师",1]
[25,"第01预分组","250920102312","何嘉谕",{"$f":"_xlfn.XLOOKUP(F28,[1]岗位信息表!$B:$B,[1]岗位信息表!$C:$C)","v":"遂溪县草潭镇草潭初级中学"},"B06","初中语文教师",1]
[26,"第01预分组","250920102316","陈海燕",{"$f":"_xlfn.XLOOKUP(F29,[1]岗位信息表!$B:$B,[1]岗位信息表!$C:$C)","v":"遂溪县草潭镇草潭初级中学"},"B06","初中语文教师",1]
[27,"第01预分组","250920102325","陈诗婷",{"$f":"_xlfn.XLOOKUP(F30,[1]岗位信息表!$B:$B,[1]岗位信息表!$C:$C)","v":"遂溪县草潭镇草潭初级中学"},"B06","初中语文教师",1]
[28,"第02预分组","250920100420","梁锦",{"$f":"_xlfn.XLOOKUP(F31,[1]岗位信息表!$B:$B,[1]岗位信息表!$C:$C)","v":"遂溪县杨柑中学"},"A02","高中数学教师",4]
[29,"第02预分组","250920100419","黄文丽",{"$f":"_xlfn.XLOOKUP(F32,[1]岗位信息表!$B:$B,[1]岗位信息表!$C:$C)","v":"遂溪县杨柑中学"},"A02","高中数学教师",4]
[30,"第02预分组","250920102421","李诗韵",{"$f":"_xlfn.XLOOKUP(F33,[1]岗位信息表!$B:$B,[1]岗位信息表!$C:$C)","v":"遂溪县城月中学"},"B07","初中数学教师",2]
[31,"第02预分组","250920102401","程思良",{"$f":"_xlfn.XLOOKUP(F34,[1]岗位信息表!$B:$B,[1]岗位信息表!$C:$C)","v":"遂溪县城月中学"},"B07","初中数学教师",2]
[32,"第02预分组","250920102402","戴永康",{"$f":"_xlfn.XLOOKUP(F35,[1]岗位信息表!$B:$B,[1]岗位信息表!$C:$C)","v":"遂溪县城月中学"},"B07","初中数学教师",2]
[33,"第02预分组","250920102405","刘欣欣",{"$f":"_xlfn.XLOOKUP(F36,[1]岗位信息表!$B:$B,[1]岗位信息表!$C:$C)","v":"遂溪县城月中学"},"B07","初中数学教师",2]
[34,"第02预分组","250920102425","陈田森",{"$f":"_xlfn.XLOOKUP(F37,[1]岗位信息表!$B:$B,[1]岗位信息表!$C:$C)","v":"遂溪县北坡中学"},"B08","初中数学教师",2]
[35,"第02预分组","250920102424","招大铸",{"$f":"_xlfn.XLOOKUP(F38,[1]岗位信息表!$B:$B,[1]岗位信息表!$C:$C)","v":"遂溪县北坡中学"},"B08","初中数学教师",2]
[36,"第02预分组","250920102428","帅君文",{"$f":"_xlfn.XLOOKUP(F39,[1]岗位信息表!$B:$B,[1]岗位信息表!$C:$C)","v":"遂溪县北坡中学"},"B08","初中数学教师",2]
[37,"第02预分组","250920102501","叶景明",{"$f":"_xlfn.XLOOKUP(F40,[1]岗位信息表!$B:$B,[1]岗位信息表!$C:$C)","v":"遂溪县北坡中学"},"B08","初中数学教师",2]
[38,"第02预分组","250920102509","吴志海",{"$f":"_xlfn.XLOOKUP(F41,[1]岗位信息表!$B:$B,[1]岗位信息表!$C:$C)","v":"遂溪县河头中学"},"B09","初中数学教师",2]
[39,"第02预分组","250920102514","谷左",{"$f":"_xlfn.XLOOKUP(F42,[1]岗位信息表!$B:$B,[1]岗位信息表!$C:$C)","v":"遂溪县河头中学"},"B09","初中数学教师",2]
[40,"第02预分组","250920102510","陈权进",{"$f":"_xlfn.XLOOKUP(F43,[1]岗位信息表!$B:$B,[1]岗位信息表!$C:$C)","v":"遂溪县河头中学"},"B09","初中数学教师",2]
[41,"第02预分组","250920102516","何俊杰",{"$f":"_xlfn.XLOOKUP(F44,[1]岗位信息表!$B:$B,[1]岗位信息表!$C:$C)","v":"遂溪县界炮中学"},"B10","初中数学教师",2]
[42,"第02预分组","250920102526","周海鹏",{"$f":"_xlfn.XLOOKUP(F45,[1]岗位信息表!$B:$B,[1]岗位信息表!$C:$C)","v":"遂溪县洋青镇沙古初级中学"},"B11","初中数学教师",1]
[43,"第02预分组","250920102524","梁锦琦",{"$f":"_xlfn.XLOOKUP(F46,[1]岗位信息表!$B:$B,[1]岗位信息表!$C:$C)","v":"遂溪县洋青镇沙古初级中学"},"B11","初中数学教师",1]
[44,"第02预分组","250920102529","谢子露",{"$f":"_xlfn.XLOOKUP(F47,[1]岗位信息表!$B:$B,[1]岗位信息表!$C:$C)","v":"遂溪县洋青镇沙古初级中学"},"B11","初中数学教师",1]
[45,"第02预分组","250920102610","廖海琳",{"$f":"_xlfn.XLOOKUP(F48,[1]岗位信息表!$B:$B,[1]岗位信息表!$C:$C)","v":"遂溪县江洪镇江洪初级中学"},"B13","初中数学教师",1]
[46,"第03预分组","250920100507","张琳乐",{"$f":"_xlfn.XLOOKUP(F49,[1]岗位信息表!$B:$B,[1]岗位信息表!$C:$C)","v":"遂溪县杨柑中学"},"A03","高中物理教师",2]
[47,"第03预分组","250920100430","周煜乔",{"$f":"_xlfn.XLOOKUP(F50,[1]岗位信息表!$B:$B,[1]岗位信息表!$C:$C)","v":"遂溪县杨柑中学"},"A03","高中物理教师",2]
[48,"第03预分组","250920100506","吴伟梅",{"$f":"_xlfn.XLOOKUP(F51,[1]岗位信息表!$B:$B,[1]岗位信息表!$C:$C)","v":"遂溪县杨柑中学"},"A03","高中物理教师",2]
[49,"第03预分组","250920100427","陈保成",{"$f":"_xlfn.XLOOKUP(F52,[1]岗位信息表!$B:$B,[1]岗位信息表!$C:$C)","v":"遂溪县杨柑中学"},"A03","高中物理教师",2]
[50,"第03预分组","250920100512","李政",{"$f":"_xlfn.XLOOKUP(F53,[1]岗位信息表!$B:$B,[1]岗位信息表!$C:$C)","v":"遂溪县杨柑中学"},"A03","高中物理教师",2]
[51,"第03预分组","250920100503","陈俊宇",{"$f":"_xlfn.XLOOKUP(F54,[1]岗位信息表!$B:$B,[1]岗位信息表!$C:$C)","v":"遂溪县杨柑中学"},"A03","高中物理教师",2]
[52,"第03预分组","250920102621","潘威志",{"$f":"_xlfn.XLOOKUP(F55,[1]岗位信息表!$B:$B,[1]岗位信息表!$C:$C)","v":"遂溪县北坡中学"},"B14","初中物理教师",1]
[53,"第03预分组","250920102613","周芳菲",{"$f":"_xlfn.XLOOKUP(F56,[1]岗位信息表!$B:$B,[1]岗位信息表!$C:$C)","v":"遂溪县北坡中学"},"B14","初中物理教师",1]
[54,"第03预分组","250920102623","陈春敏",{"$f":"_xlfn.XLOOKUP(F57,[1]岗位信息表!$B:$B,[1]岗位信息表!$C:$C)","v":"遂溪县北坡中学"},"B14","初中物理教师",1]
[55,"第03预分组","250920102628","林琳",{"$f":"_xlfn.XLOOKUP(F58,[1]岗位信息表!$B:$B,[1]岗位信息表!$C:$C)","v":"遂溪县界炮中学"},"B15","初中物理教师",1]
[56,"第03预分组","250920102701","杨紫铃",{"$f":"_xlfn.XLOOKUP(F59,[1]岗位信息表!$B:$B,[1]岗位信息表!$C:$C)","v":"遂溪县界炮中学"},"B15","初中物理教师",1]
[57,"第03预分组","250920102704","曹泽铭",{"$f":"_xlfn.XLOOKUP(F60,[1]岗位信息表!$B:$B,[1]岗位信息表!$C:$C)","v":"遂溪县界炮中学"},"B15","初中物理教师",1]
[58,"第03预分组","250920102709","陈耀钧",{"$f":"_xlfn.XLOOKUP(F61,[1]岗位信息表!$B:$B,[1]岗位信息表!$C:$C)","v":"遂溪县草潭镇草潭初级中学"},"B16","初中物理教师",1]
[59,"第04预分组","250920100516","陈珊珊",{"$f":"_xlfn.XLOOKUP(F62,[1]岗位信息表!$B:$B,[1]岗位信息表!$C:$C)","v":"遂溪县杨柑中学"},"A04","高中化学教师",2]
[60,"第04预分组","250920100517","温华飞",{"$f":"_xlfn.XLOOKUP(F63,[1]岗位信息表!$B:$B,[1]岗位信息表!$C:$C)","v":"遂溪县杨柑中学"},"A04","高中化学教师",2]
[61,"第04预分组","250920100529","陈伟燕",{"$f":"_xlfn.XLOOKUP(F64,[1]岗位信息表!$B:$B,[1]岗位信息表!$C:$C)","v":"遂溪县杨柑中学"},"A04","高中化学教师",2]
[62,"第04预分组","250920100515","陈丹薇",{"$f":"_xlfn.XLOOKUP(F65,[1]岗位信息表!$B:$B,[1]岗位信息表!$C:$C)","v":"遂溪县杨柑中学"},"A04","高中化学教师",2]
[63,"第04预分组","250920100606","刘弘",{"$f":"_xlfn.XLOOKUP(F66,[1]岗位信息表!$B:$B,[1]岗位信息表!$C:$C)","v":"遂溪县杨柑中学"},"A04","高中化学教师",2]
[64,"第04预分组","250920100601","谢啊敏",{"$f":"_xlfn.XLOOKUP(F67,[1]岗位信息表!$B:$B,[1]岗位信息表!$C:$C)","v":"遂溪县杨柑中学"},"A04","高中化学教师",2]
[65,"第04预分组","250920102723","李艳晨",{"$f":"_xlfn.XLOOKUP(F68,[1]岗位信息表!$B:$B,[1]岗位信息表!$C:$C)","v":"遂溪县北坡中学"},"B17","初中化学教师",1]
[66,"第04预分组","250920102730","许真玮",{"$f":"_xlfn.XLOOKUP(F69,[1]岗位信息表!$B:$B,[1]岗位信息表!$C:$C)","v":"遂溪县北坡中学"},"B17","初中化学教师",1]
[67,"第04预分组","250920102802","何可苗",{"$f":"_xlfn.XLOOKUP(F70,[1]岗位信息表!$B:$B,[1]岗位信息表!$C:$C)","v":"遂溪县北坡中学"},"B17","初中化学教师",1]
[68,"第04预分组","250920102829","杞洪杰",{"$f":"_xlfn.XLOOKUP(F71,[1]岗位信息表!$B:$B,[1]岗位信息表!$C:$C)","v":"遂溪县河头中学"},"B18","初中化学教师",1]
[69,"第04预分组","250920102827","杨小霞",{"$f":"_xlfn.XLOOKUP(F72,[1]岗位信息表!$B:$B,[1]岗位信息表!$C:$C)","v":"遂溪县河头中学"},"B18","初中化学教师",1]
[70,"第04预分组","250920102808","何木婷",{"$f":"_xlfn.XLOOKUP(F73,[1]岗位信息表!$B:$B,[1]岗位信息表!$C:$C)","v":"遂溪县河头中学"},"B18","初中化学教师",1]
[71,"第04预分组","250920102927","王巨才",{"$f":"_xlfn.XLOOKUP(F74,[1]岗位信息表!$B:$B,[1]岗位信息表!$C:$C)","v":"遂溪县雷林初级中学"},"B19","初中化学教师",1]
[72,"第04预分组","250920102918","钟凯欣",{"$f":"_xlfn.XLOOKUP(F75,[1]岗位信息表!$B:$B,[1]岗位信息表!$C:$C)","v":"遂溪县雷林初级中学"},"B19","初中化学教师",1]
[73,"第04预分组","250920102911","林文凤",{"$f":"_xlfn.XLOOKUP(F76,[1]岗位信息表!$B:$B,[1]岗位信息表!$C:$C)","v":"遂溪县雷林初级中学"},"B19","初中化学教师",1]
[74,"第04预分组","250920103009","陈智燕",{"$f":"_xlfn.XLOOKUP(F77,[1]岗位信息表!$B:$B,[1]岗位信息表!$C:$C)","v":"遂溪县江洪镇江洪初级中学"},"B20","初中化学教师",1]
[75,"第04预分组","250920103004","冯育贤",{"$f":"_xlfn.XLOOKUP(F78,[1]岗位信息表!$B:$B,[1]岗位信息表!$C:$C)","v":"遂溪县江洪镇江洪初级中学"},"B20","初中化学教师",1]
[76,"第04预分组","250920102930","王湘柳",{"$f":"_xlfn.XLOOKUP(F79,[1]岗位信息表!$B:$B,[1]岗位信息表!$C:$C)","v":"遂溪县江洪镇江洪初级中学"},"B20","初中化学教师",1]
[77,"第04预分组","250920103509","梁春虹",{"$f":"_xlfn.XLOOKUP(F80,[1]岗位信息表!$B:$B,[1]岗位信息表!$C:$C)","v":"遂溪县港门镇港门初级中学"},"B28","初中生物教师",1]
[78,"第04预分组","250920103710","杨安",{"$f":"_xlfn.XLOOKUP(F81,[1]岗位信息表!$B:$B,[1]岗位信息表!$C:$C)","v":"遂溪县港门镇港门初级中学"},"B28","初中生物教师",1]
[79,"第04预分组","250920103422","曾虹茹",{"$f":"_xlfn.XLOOKUP(F82,[1]岗位信息表!$B:$B,[1]岗位信息表!$C:$C)","v":"遂溪县港门镇港门初级中学"},"B28","初中生物教师",1]
[80,"第05预分组","250920100803","张颖琪",{"$f":"_xlfn.XLOOKUP(F83,[1]岗位信息表!$B:$B,[1]岗位信息表!$C:$C)","v":"遂溪县杨柑中学"},"A06","高中地理教师",2]
[81,"第05预分组","250920100721","黄丽丽",{"$f":"_xlfn.XLOOKUP(F84,[1]岗位信息表!$B:$B,[1]岗位信息表!$C:$C)","v":"遂溪县杨柑中学"},"A06","高中地理教师",2]
[82,"第05预分组","250920100724","叶荣婵",{"$f":"_xlfn.XLOOKUP(F85,[1]岗位信息表!$B:$B,[1]岗位信息表!$C:$C)","v":"遂溪县杨柑中学"},"A06","高中地理教师",2]
[83,"第05预分组","250920100727","胡满萍",{"$f":"_xlfn.XLOOKUP(F86,[1]岗位信息表!$B:$B,[1]岗位信息表!$C:$C)","v":"遂溪县杨柑中学"},"A06","高中地理教师",2]
[84,"第05预分组","250920100717","劳春媚",{"$f":"_xlfn.XLOOKUP(F87,[1]岗位信息表!$B:$B,[1]岗位信息表!$C:$C)","v":"遂溪县杨柑中学"},"A06","高中地理教师",2]
[85,"第05预分组","250920100807","潘燕廷",{"$f":"_xlfn.XLOOKUP(F88,[1]岗位信息表!$B:$B,[1]岗位信息表!$C:$C)","v":"遂溪县杨柑中学"},"A06","高中地理教师",2]
[86,"第05预分组","250920100730","谢明超",{"$f":"_xlfn.XLOOKUP(F89,[1]岗位信息表!$B:$B,[1]岗位信息表!$C:$C)","v":"遂溪县杨柑中学"},"A06","高中地理教师","2"]
[87,"第05预分组","250920103212","周桂磐",{"$f":"_xlfn.XLOOKUP(F90,[1]岗位信息表!$B:$B,[1]岗位信息表!$C:$C)","v":"遂溪县城月中学"},"B23","初中地理教师",2]
[88,"第05预分组","250920103216","廖克迪",{"$f":"_xlfn.XLOOKUP(F91,[1]岗位信息表!$B:$B,[1]岗位信息表!$C:$C)","v":"遂溪县城月中学"},"B23","初中地理教师",2]
[89,"第05预分组","250920103129","余慧慧",{"$f":"_xlfn.XLOOKUP(F92,[1]岗位信息表!$B:$B,[1]岗位信息表!$C:$C)","v":"遂溪县城月中学"},"B23","初中地理教师",2]
[90,"第05预分组","250920103217","邓惠文",{"$f":"_xlfn.XLOOKUP(F93,[1]岗位信息表!$B:$B,[1]岗位信息表!$C:$C)","v":"遂溪县城月中学"},"B23","初中地理教师",2]
[91,"第05预分组","250920103226","许凤玲",{"$f":"_xlfn.XLOOKUP(F94,[1]岗位信息表!$B:$B,[1]岗位信息表!$C:$C)","v":"遂溪县北坡中学"},"B24","初中地理教师",2]
[92,"第05预分组","250920103301","林颖",{"$f":"_xlfn.XLOOKUP(F95,[1]岗位信息表!$B:$B,[1]岗位信息表!$C:$C)","v":"遂溪县北坡中学"},"B24","初中地理教师",2]
[93,"第05预分组","250920103307","黄柔柔",{"$f":"_xlfn.XLOOKUP(F96,[1]岗位信息表!$B:$B,[1]岗位信息表!$C:$C)","v":"遂溪县北坡中学"},"B24","初中地理教师",2]
[94,"第05预分组","250920103310","洪志光",{"$f":"_xlfn.XLOOKUP(F97,[1]岗位信息表!$B:$B,[1]岗位信息表!$C:$C)","v":"遂溪县北坡中学"},"B24","初中地理教师",2]
[95,"第05预分组","250920103227","陈铭",{"$f":"_xlfn.XLOOKUP(F98,[1]岗位信息表!$B:$B,[1]岗位信息表!$C:$C)","v":"遂溪县北坡中学"},"B24","初中地理教师",2]
[96,"第05预分组","250920103218","张焕婷",{"$f":"_xlfn.XLOOKUP(F99,[1]岗位信息表!$B:$B,[1]岗位信息表!$C:$C)","v":"遂溪县北坡中学"},"B24","初中地理教师",2]
[97,"第05预分组","250920103313","黄楸婷",{"$f":"_xlfn.XLOOKUP(F100,[1]岗位信息表!$B:$B,[1]岗位信息表!$C:$C)","v":"遂溪县洋青中学"},"B25","初中地理教师",1]
[98,"第05预分组","250920103311","李诗婷",{"$f":"_xlfn.XLOOKUP(F101,[1]岗位信息表!$B:$B,[1]岗位信息表!$C:$C)","v":"遂溪县洋青中学"},"B25","初中地理教师",1]
[99,"第05预分组","250920103315","陈佳蔚",{"$f":"_xlfn.XLOOKUP(F102,[1]岗位信息表!$B:$B,[1]岗位信息表!$C:$C)","v":"遂溪县洋青中学"},"B25","初中地理教师",1]
[100,"第05预分组","250920103319","郑诗静",{"$f":"_xlfn.XLOOKUP(F103,[1]岗位信息表!$B:$B,[1]岗位信息表!$C:$C)","v":"遂溪县界炮中学"},"B26","初中地理教师",1]
[101,"第05预分组","250920103323","曾聪",{"$f":"_xlfn.XLOOKUP(F104,[1]岗位信息表!$B:$B,[1]岗位信息表!$C:$C)","v":"遂溪县界炮中学"},"B26","初中地理教师",1]
[102,"第05预分组","250920103321","莫淇雯",{"$f":"_xlfn.XLOOKUP(F105,[1]岗位信息表!$B:$B,[1]岗位信息表!$C:$C)","v":"遂溪县界炮中学"},"B26","初中地理教师",1]
[103,"第05预分组","250920103328","梁元",{"$f":"_xlfn.XLOOKUP(F106,[1]岗位信息表!$B:$B,[1]岗位信息表!$C:$C)","v":"遂溪县草潭镇草潭初级中学"},"B27","初中地理教师",1]
[104,"第06预分组","250920100626","许小小",{"$f":"_xlfn.XLOOKUP(F107,[1]岗位信息表!$B:$B,[1]岗位信息表!$C:$C)","v":"遂溪县杨柑中学"},"A05","高中历史教师",1]
[105,"第06预分组","250920100716","梁华锋",{"$f":"_xlfn.XLOOKUP(F108,[1]岗位信息表!$B:$B,[1]岗位信息表!$C:$C)","v":"遂溪县杨柑中学"},"A05","高中历史教师",1]
[106,"第06预分组","250920100703","陈文樱",{"$f":"_xlfn.XLOOKUP(F109,[1]岗位信息表!$B:$B,[1]岗位信息表!$C:$C)","v":"遂溪县杨柑中学"},"A05","高中历史教师",1]
[107,"第06预分组","250920103106","谢月娥",{"$f":"_xlfn.XLOOKUP(F110,[1]岗位信息表!$B:$B,[1]岗位信息表!$C:$C)","v":"遂溪县北坡中学"},"B21","初中历史教师",1]
[108,"第06预分组","250920103030","符尹美",{"$f":"_xlfn.XLOOKUP(F111,[1]岗位信息表!$B:$B,[1]岗位信息表!$C:$C)","v":"遂溪县北坡中学"},"B21","初中历史教师",1]
[109,"第06预分组","250920103016","陈华宇",{"$f":"_xlfn.XLOOKUP(F112,[1]岗位信息表!$B:$B,[1]岗位信息表!$C:$C)","v":"遂溪县北坡中学"},"B21","初中历史教师",1]
[110,"第06预分组","250920103108","何俊生",{"$f":"_xlfn.XLOOKUP(F113,[1]岗位信息表!$B:$B,[1]岗位信息表!$C:$C)","v":"遂溪县港门镇港门初级中学"},"B22","初中历史教师",1]
[111,"第06预分组","250920103110","何冠泽",{"$f":"_xlfn.XLOOKUP(F114,[1]岗位信息表!$B:$B,[1]岗位信息表!$C:$C)","v":"遂溪县港门镇港门初级中学"},"B22","初中历史教师",1]
[112,"第06预分组","250920103111","王水连",{"$f":"_xlfn.XLOOKUP(F115,[1]岗位信息表!$B:$B,[1]岗位信息表!$C:$C)","v":"遂溪县港门镇港门初级中学"},"B22","初中历史教师",1]
[113,"第07预分组","250920100814","陈锦凤",{"$f":"_xlfn.XLOOKUP(F116,[1]岗位信息表!$B:$B,[1]岗位信息表!$C:$C)","v":"遂溪县杨柑中学"},"A07","高中美术教师",1]
[114,"第07预分组","250920101016","麦芷杏",{"$f":"_xlfn.XLOOKUP(F117,[1]岗位信息表!$B:$B,[1]岗位信息表!$C:$C)","v":"遂溪县杨柑中学"},"A07","高中美术教师",1]
[115,"第07预分组","250920100913","詹志红",{"$f":"_xlfn.XLOOKUP(F118,[1]岗位信息表!$B:$B,[1]岗位信息表!$C:$C)","v":"遂溪县杨柑中学"},"A07","高中美术教师",1]
[116,"第07预分组","250920101412","潘雅诗",{"$f":"_xlfn.XLOOKUP(F119,[1]岗位信息表!$B:$B,[1]岗位信息表!$C:$C)","v":"遂溪县杨柑中学"},"A08","高中舞蹈教师",1]
[117,"第07预分组","250920101430","黎楚娴",{"$f":"_xlfn.XLOOKUP(F120,[1]岗位信息表!$B:$B,[1]岗位信息表!$C:$C)","v":"遂溪县杨柑中学"},"A08","高中舞蹈教师",1]
[118,"第07预分组","250920101424","杨贵色",{"$f":"_xlfn.XLOOKUP(F121,[1]岗位信息表!$B:$B,[1]岗位信息表!$C:$C)","v":"遂溪县杨柑中学"},"A08","高中舞蹈教师",1]